BEGIN:VCALENDAR
VERSION:2.0
PRODID:www.das-nettz.de
BEGIN:VEVENT
UID:69ea1e88557d7
DTSTART:20251211T110000Z
SEQUENCE:0
TRANSP:OPAQUE
DTEND:20251211T123000Z
LOCATION:online
SUMMARY:Zwischen Chance und Verantwortung - KI im Einsatz für eine konstru
 ktive Diskurskultur? 
CLASS:PUBLIC
DESCRIPTION:&lt\;p&gt\;&amp\;nbsp\;&lt\;/p&gt\;
DTSTAMP:20260423T132840Z
END:VEVENT
BEGIN:VEVENT
UID:69ea1e885580f
DTSTART:20251212T110000Z
SEQUENCE:0
TRANSP:OPAQUE
DTEND:20251212T123000Z
LOCATION:online
SUMMARY:Zwischen Chance und Verantwortung - KI im Einsatz für eine konstru
 ktive Diskurskultur? 
CLASS:PUBLIC
DESCRIPTION:&lt\;p&gt\;&amp\;nbsp\;&lt\;/p&gt\;
DTSTAMP:20260423T132840Z
END:VEVENT
END:VCALENDAR