BEGIN:VCALENDAR
VERSION:2.0
PRODID:www.das-nettz.de
BEGIN:VEVENT
UID:69ea33e18cd5f
DTSTART:20260507T110000Z
SEQUENCE:0
TRANSP:OPAQUE
DTEND:20260507T123000Z
LOCATION:Online über Zoom
SUMMARY:NETTZ.Gespräch: Are the Adults Alright? Social Media für alle Gen
 erationen neu denken
CLASS:PUBLIC
DESCRIPTION:&lt\;p dir=&quot\;ltr&quot\;&gt\;🚀 &lt\;a href=&quot\;https:
 //crm.das-nettz.de/civicrm/event/info?reset=1&amp\;amp\;id=51&quot\;&gt\;J
 etzt anmelden&lt\;/a&gt\;!&lt\;/p&gt\;
DTSTAMP:20260423T145945Z
END:VEVENT
BEGIN:VEVENT
UID:69ea33e18cd99
DTSTART:20260508T110000Z
SEQUENCE:0
TRANSP:OPAQUE
DTEND:20260508T123000Z
LOCATION:Online über Zoom
SUMMARY:NETTZ.Gespräch: Are the Adults Alright? Social Media für alle Gen
 erationen neu denken
CLASS:PUBLIC
DESCRIPTION:&lt\;p dir=&quot\;ltr&quot\;&gt\;🚀 &lt\;a href=&quot\;https:
 //crm.das-nettz.de/civicrm/event/info?reset=1&amp\;amp\;id=51&quot\;&gt\;J
 etzt anmelden&lt\;/a&gt\;!&lt\;/p&gt\;
DTSTAMP:20260423T145945Z
END:VEVENT
END:VCALENDAR