BEGIN:VCALENDAR
VERSION:2.0
PRODID:www.das-nettz.de
BEGIN:VEVENT
UID:69ea3282bfd2d
DTSTART:20260513T110000Z
SEQUENCE:0
TRANSP:OPAQUE
DTEND:20260513T123000Z
LOCATION:Zoom
SUMMARY:NETTZ.Gespräch: Wirksam widersprechen – Strategien gegen Geschic
 htsrevisionismus auf Social Media
CLASS:PUBLIC
DESCRIPTION:&lt\;p&gt\;&lt\;a href=&quot\;https://crm.das-nettz.de/civicrm/
 event/info?reset=1&amp\;amp\;id=52&quot\;&gt\;&lt\;strong&gt\;Jetzt anmeld
 en&lt\;/strong&gt\;&lt\;/a&gt\;!&lt\;/p&gt\;
DTSTAMP:20260423T145354Z
END:VEVENT
BEGIN:VEVENT
UID:69ea3282bfd63
DTSTART:20260514T110000Z
SEQUENCE:0
TRANSP:OPAQUE
DTEND:20260514T123000Z
LOCATION:Zoom
SUMMARY:NETTZ.Gespräch: Wirksam widersprechen – Strategien gegen Geschic
 htsrevisionismus auf Social Media
CLASS:PUBLIC
DESCRIPTION:&lt\;p&gt\;&lt\;a href=&quot\;https://crm.das-nettz.de/civicrm/
 event/info?reset=1&amp\;amp\;id=52&quot\;&gt\;&lt\;strong&gt\;Jetzt anmeld
 en&lt\;/strong&gt\;&lt\;/a&gt\;!&lt\;/p&gt\;
DTSTAMP:20260423T145354Z
END:VEVENT
END:VCALENDAR