BEGIN:VCALENDAR
VERSION:2.0
PRODID:www.das-nettz.de
BEGIN:VEVENT
UID:69e6fdbb21d4f
DTSTART:20230605T100000Z
SEQUENCE:0
TRANSP:OPAQUE
DTEND:20230605T200000Z
LOCATION:Arena Berlin &amp\; Festsaal Kreuzberg
SUMMARY:Wir sind auf der re:publica 2023
CLASS:PUBLIC
DESCRIPTION:&lt\;p&gt\;&lt\;strong&gt\;Drei Tage geht es in Berlin bei der 
 re:publica wieder um die digitale Gesellschaft – wir sind mit dem &lt\;a
  href=&quot\;https://kompetenznetzwerk-hass-im-netz.de/&quot\;&gt\;Kompete
 nznetzwerk gegen Hass im Netz&lt\;/a&gt\; bei der Konferenz mit einem Info
 stand\, Vernetzungsangeboten und Inputs dabei.&lt\;/strong&gt\;&lt\;/p&gt\
 ;
DTSTAMP:20260421T043155Z
END:VEVENT
BEGIN:VEVENT
UID:69e6fdbb21d88
DTSTART:20230606T100000Z
SEQUENCE:0
TRANSP:OPAQUE
DTEND:20230606T200000Z
LOCATION:Arena Berlin &amp\; Festsaal Kreuzberg
SUMMARY:Wir sind auf der re:publica 2023
CLASS:PUBLIC
DESCRIPTION:&lt\;p&gt\;&lt\;strong&gt\;Drei Tage geht es in Berlin bei der 
 re:publica wieder um die digitale Gesellschaft – wir sind mit dem &lt\;a
  href=&quot\;https://kompetenznetzwerk-hass-im-netz.de/&quot\;&gt\;Kompete
 nznetzwerk gegen Hass im Netz&lt\;/a&gt\; bei der Konferenz mit einem Info
 stand\, Vernetzungsangeboten und Inputs dabei.&lt\;/strong&gt\;&lt\;/p&gt\
 ;
DTSTAMP:20260421T043155Z
END:VEVENT
BEGIN:VEVENT
UID:69e6fdbb21d93
DTSTART:20230607T100000Z
SEQUENCE:0
TRANSP:OPAQUE
DTEND:20230607T200000Z
LOCATION:Arena Berlin &amp\; Festsaal Kreuzberg
SUMMARY:Wir sind auf der re:publica 2023
CLASS:PUBLIC
DESCRIPTION:&lt\;p&gt\;&lt\;strong&gt\;Drei Tage geht es in Berlin bei der 
 re:publica wieder um die digitale Gesellschaft – wir sind mit dem &lt\;a
  href=&quot\;https://kompetenznetzwerk-hass-im-netz.de/&quot\;&gt\;Kompete
 nznetzwerk gegen Hass im Netz&lt\;/a&gt\; bei der Konferenz mit einem Info
 stand\, Vernetzungsangeboten und Inputs dabei.&lt\;/strong&gt\;&lt\;/p&gt\
 ;
DTSTAMP:20260421T043155Z
END:VEVENT
BEGIN:VEVENT
UID:69e6fdbb21d9d
DTSTART:20230608T100000Z
SEQUENCE:0
TRANSP:OPAQUE
DTEND:20230608T200000Z
LOCATION:Arena Berlin &amp\; Festsaal Kreuzberg
SUMMARY:Wir sind auf der re:publica 2023
CLASS:PUBLIC
DESCRIPTION:&lt\;p&gt\;&lt\;strong&gt\;Drei Tage geht es in Berlin bei der 
 re:publica wieder um die digitale Gesellschaft – wir sind mit dem &lt\;a
  href=&quot\;https://kompetenznetzwerk-hass-im-netz.de/&quot\;&gt\;Kompete
 nznetzwerk gegen Hass im Netz&lt\;/a&gt\; bei der Konferenz mit einem Info
 stand\, Vernetzungsangeboten und Inputs dabei.&lt\;/strong&gt\;&lt\;/p&gt\
 ;
DTSTAMP:20260421T043155Z
END:VEVENT
END:VCALENDAR