BEGIN:VCALENDAR
VERSION:2.0
PRODID:www.das-nettz.de
BEGIN:VEVENT
UID:69ea0c356bcdd
DTSTART:20240919T130000Z
SEQUENCE:0
TRANSP:OPAQUE
DTEND:20240919T143000Z
LOCATION:Zoom
SUMMARY:NETTZ.Gespräch
CLASS:PUBLIC
DESCRIPTION:&lt\;p&gt\;&lt\;strong&gt\;NETTZ.Gespräch: Rechtsalternative N
 etzwerke &amp\;amp\; YouTube&lt\;/strong&gt\;&lt\;/p&gt\;\n&lt\;p&gt\;Wie 
 bauen politische Akteure plattformübergreifend Communities auf? Welche Ro
 lle spielt Videoaktivismus auf YouTube? Und welche Verlinkungsstruktur ste
 ckt hinter der Telegram-YouTube-Pipeline?&lt\;/p&gt\;
DTSTAMP:20260423T121029Z
END:VEVENT
BEGIN:VEVENT
UID:69ea0c356bd1d
DTSTART:20240920T130000Z
SEQUENCE:0
TRANSP:OPAQUE
DTEND:20240920T143000Z
LOCATION:Zoom
SUMMARY:NETTZ.Gespräch
CLASS:PUBLIC
DESCRIPTION:&lt\;p&gt\;&lt\;strong&gt\;NETTZ.Gespräch: Rechtsalternative N
 etzwerke &amp\;amp\; YouTube&lt\;/strong&gt\;&lt\;/p&gt\;\n&lt\;p&gt\;Wie 
 bauen politische Akteure plattformübergreifend Communities auf? Welche Ro
 lle spielt Videoaktivismus auf YouTube? Und welche Verlinkungsstruktur ste
 ckt hinter der Telegram-YouTube-Pipeline?&lt\;/p&gt\;
DTSTAMP:20260423T121029Z
END:VEVENT
END:VCALENDAR