BEGIN:VCALENDAR
VERSION:2.0
PRODID:www.das-nettz.de
BEGIN:VEVENT
UID:69ea1fc208685
DTSTART:20250220T130000Z
SEQUENCE:0
TRANSP:OPAQUE
DTEND:20250220T143000Z
LOCATION:Zoom
SUMMARY:NETTZ.Gespräch: Wer lügt\, gewinnt? Desinformation und die Bundes
 tagswahl
CLASS:PUBLIC
DESCRIPTION:&lt\;p dir=&quot\;ltr&quot\;&gt\;Soziale Medien sind aus dem Wa
 hlkampf nicht mehr wegzudenken – wie schaffen wir es\, dass Realität un
 d Fakten hier wieder eine Rolle spielen?&amp\;nbsp\;&lt\;/p&gt\;
DTSTAMP:20260423T133354Z
END:VEVENT
BEGIN:VEVENT
UID:69ea1fc2086c1
DTSTART:20250221T130000Z
SEQUENCE:0
TRANSP:OPAQUE
DTEND:20250221T143000Z
LOCATION:Zoom
SUMMARY:NETTZ.Gespräch: Wer lügt\, gewinnt? Desinformation und die Bundes
 tagswahl
CLASS:PUBLIC
DESCRIPTION:&lt\;p dir=&quot\;ltr&quot\;&gt\;Soziale Medien sind aus dem Wa
 hlkampf nicht mehr wegzudenken – wie schaffen wir es\, dass Realität un
 d Fakten hier wieder eine Rolle spielen?&amp\;nbsp\;&lt\;/p&gt\;
DTSTAMP:20260423T133354Z
END:VEVENT
END:VCALENDAR